BEGIN:VCALENDAR
VERSION:2.0
PRODID:icalendar-ruby
CALSCALE:GREGORIAN
METHOD:PUBLISH
BEGIN:VEVENT
DTSTAMP:20260420T083007Z
UID:11-247941@erwinfirstchurch.org
DTSTART:20260315T143000Z
DTEND:20260315T153000Z
CLASS:PUBLIC
CREATED:20260128T231600
DESCRIPTION:\n\n 
LAST-MODIFIED:20260128T231600
LOCATION:
SUMMARY:Worship
URL;VALUE=URI:https://www.erwinfirstchurch.org/events/worship/2026-03-15
END:VEVENT
END:VCALENDAR
